BEGIN:VCALENDAR
VERSION:2.0
PRODID:-//Heartland Realty School - ECPv6.15.20//NONSGML v1.0//EN
CALSCALE:GREGORIAN
METHOD:PUBLISH
X-WR-CALNAME:Heartland Realty School
X-ORIGINAL-URL:https://heartlandreschool.com
X-WR-CALDESC:Events for Heartland Realty School
REFRESH-INTERVAL;VALUE=DURATION:PT1H
X-Robots-Tag:noindex
X-PUBLISHED-TTL:PT1H
BEGIN:VTIMEZONE
TZID:America/New_York
BEGIN:DAYLIGHT
TZOFFSETFROM:-0500
TZOFFSETTO:-0400
TZNAME:EDT
DTSTART:20230312T070000
END:DAYLIGHT
BEGIN:STANDARD
TZOFFSETFROM:-0400
TZOFFSETTO:-0500
TZNAME:EST
DTSTART:20231105T060000
END:STANDARD
BEGIN:DAYLIGHT
TZOFFSETFROM:-0500
TZOFFSETTO:-0400
TZNAME:EDT
DTSTART:20240310T070000
END:DAYLIGHT
BEGIN:STANDARD
TZOFFSETFROM:-0400
TZOFFSETTO:-0500
TZNAME:EST
DTSTART:20241103T060000
END:STANDARD
BEGIN:DAYLIGHT
TZOFFSETFROM:-0500
TZOFFSETTO:-0400
TZNAME:EDT
DTSTART:20250309T070000
END:DAYLIGHT
BEGIN:STANDARD
TZOFFSETFROM:-0400
TZOFFSETTO:-0500
TZNAME:EST
DTSTART:20251102T060000
END:STANDARD
END:VTIMEZONE
BEGIN:VEVENT
DTSTART;TZID=America/New_York:20241220T090000
DTEND;TZID=America/New_York:20241220T120000
DTSTAMP:20260419T114511
CREATED:20241204T155235Z
LAST-MODIFIED:20241204T155235Z
UID:10000144-1734685200-1734696000@heartlandreschool.com
SUMMARY:Contracts - 2025 Updates
DESCRIPTION:GAR Contracts – 2025 Updates \nClass Description\nThis comprehensive class provides a detailed breakdown of the 2025 updates to GAR Forms and essential contract documents. Through interactive instruction\, participants will gain a thorough understanding of the changes and best practices for completing key real estate forms. \nClass Itinerary & Learning Objectives: \nHour 1: Major Updates \n\nOverview of all changes to the GAR Forms as outlined by GaREALTORS®.\nKey highlights and updates\n\nHour 2: Purchase and Sale Agreement\, Exclusive Seller Brokerage Agreement\, & Exclusive Buyer Brokerage Agreement \n\nDetailed review of these critical documents.\nStep-by-step guidance on how to properly complete these forms\, with changes specifically highlighted.\n\nHour 3: Amendments\, Exhibits\, and Special Stipulations \n\nExamination of commonly used amendments.\nIn-depth focus on “money” documents in the 400 section\, including Conventional Loan\, FHA\, VA\, and USDA Loan Contingency forms.\nReal-world scenarios and insights into new and frequently used Special Stipulations drafted by the Forms Committee\n\n  \nCourse Code 78033 – Approved for 3 CE Credits.
URL:https://heartlandreschool.com/event/contracts-2025-updates/
LOCATION:Heartland Realty School\, 2160 Morningside Drive\, Suite 200\, Buford\, GA\, 30518\, United States
CATEGORIES:CE - 3.0 Hours
ATTACH;FMTTYPE=image/jpeg:https://heartlandreschool.com/wp-content/uploads/2024/12/2025-Updates.jpg
ORGANIZER;CN="Nakia Brooks":MAILTO:nakia@heartlandga.com
END:VEVENT
END:VCALENDAR