BEGIN:VCALENDAR
VERSION:2.0
PRODID:-//Heartland Realty School - ECPv6.15.20//NONSGML v1.0//EN
CALSCALE:GREGORIAN
METHOD:PUBLISH
X-WR-CALNAME:Heartland Realty School
X-ORIGINAL-URL:https://heartlandreschool.com
X-WR-CALDESC:Events for Heartland Realty School
REFRESH-INTERVAL;VALUE=DURATION:PT1H
X-Robots-Tag:noindex
X-PUBLISHED-TTL:PT1H
BEGIN:VTIMEZONE
TZID:America/New_York
BEGIN:DAYLIGHT
TZOFFSETFROM:-0500
TZOFFSETTO:-0400
TZNAME:EDT
DTSTART:20240310T070000
END:DAYLIGHT
BEGIN:STANDARD
TZOFFSETFROM:-0400
TZOFFSETTO:-0500
TZNAME:EST
DTSTART:20241103T060000
END:STANDARD
BEGIN:DAYLIGHT
TZOFFSETFROM:-0500
TZOFFSETTO:-0400
TZNAME:EDT
DTSTART:20250309T070000
END:DAYLIGHT
BEGIN:STANDARD
TZOFFSETFROM:-0400
TZOFFSETTO:-0500
TZNAME:EST
DTSTART:20251102T060000
END:STANDARD
BEGIN:DAYLIGHT
TZOFFSETFROM:-0500
TZOFFSETTO:-0400
TZNAME:EDT
DTSTART:20260308T070000
END:DAYLIGHT
BEGIN:STANDARD
TZOFFSETFROM:-0400
TZOFFSETTO:-0500
TZNAME:EST
DTSTART:20261101T060000
END:STANDARD
END:VTIMEZONE
BEGIN:VEVENT
DTSTART;TZID=America/New_York:20250320T100000
DTEND;TZID=America/New_York:20250320T140000
DTSTAMP:20260423T081826
CREATED:20250219T192931Z
LAST-MODIFIED:20250220T150936Z
UID:10000148-1742464800-1742479200@heartlandreschool.com
SUMMARY:Lending - Mortgage 101
DESCRIPTION:Course Overview: Understanding the Mortgage Process \nThis 3.0 CE-hour course is designed to equip licensees with a comprehensive understanding of the mortgage process\, loan products\, and how to better assist their clients in securing a mortgage. \nHour 1: The Mortgage Process\, the instructor will guide students through the key steps involved in obtaining a mortgage. This includes understanding what borrowers need before applying\, what lenders require from the licensee during the application process\, and the lender’s role during closing. Additionally\, students will learn about the post-closing phase\, including first payments\, pre-paids\, and other critical considerations. \nHour 2: Mortgage Products will focus on different types of loan programs available to borrowers. The instructor will cover conventional loans\, FHA and VA loans\, USDA loans\, jumbo loans\, refinancing options\, and reverse mortgages. This session aims to provide licensees with a well-rounded understanding of various financing options to better serve their clients. \nHour 3: Understanding Mortgages to Better Serve Clients\, the course will delve into key areas where licensees can assist their clients. Topics include identifying and reporting mortgage fraud\, understanding and explaining the Closing Disclosure\, and utilizing document checklists to help clients prepare for the loan process. \nThroughout the course\, students will participate in practical exercises to reinforce their learning and demonstrate proficiency in the mortgage process. This interactive approach ensures that licensees gain the knowledge and skills needed to guide their clients effectively through the home financing journey. \nGREC Approved Course Code 78291 for 3.0 CE Hours.
URL:https://heartlandreschool.com/event/lending-mortgage-101/
LOCATION:River Meadows Subdivision\, 198 Meadows Drive\, Bethlehem\, GA\, 30620\, United States
CATEGORIES:CE - 3.0 Hours
ATTACH;FMTTYPE=image/png:https://heartlandreschool.com/wp-content/uploads/2025/02/Screenshot-2025-02-20-094739.png
ORGANIZER;CN="Brian Norton":MAILTO:bnorton@johnscreekmortgage.com
END:VEVENT
END:VCALENDAR