BEGIN:VCALENDAR
VERSION:2.0
PRODID:-//Heartland Realty School - ECPv6.15.20//NONSGML v1.0//EN
CALSCALE:GREGORIAN
METHOD:PUBLISH
X-ORIGINAL-URL:https://heartlandreschool.com
X-WR-CALDESC:Events for Heartland Realty School
REFRESH-INTERVAL;VALUE=DURATION:PT1H
X-Robots-Tag:noindex
X-PUBLISHED-TTL:PT1H
BEGIN:VTIMEZONE
TZID:America/New_York
BEGIN:DAYLIGHT
TZOFFSETFROM:-0500
TZOFFSETTO:-0400
TZNAME:EDT
DTSTART:20240310T070000
END:DAYLIGHT
BEGIN:STANDARD
TZOFFSETFROM:-0400
TZOFFSETTO:-0500
TZNAME:EST
DTSTART:20241103T060000
END:STANDARD
BEGIN:DAYLIGHT
TZOFFSETFROM:-0500
TZOFFSETTO:-0400
TZNAME:EDT
DTSTART:20250309T070000
END:DAYLIGHT
BEGIN:STANDARD
TZOFFSETFROM:-0400
TZOFFSETTO:-0500
TZNAME:EST
DTSTART:20251102T060000
END:STANDARD
BEGIN:DAYLIGHT
TZOFFSETFROM:-0500
TZOFFSETTO:-0400
TZNAME:EDT
DTSTART:20260308T070000
END:DAYLIGHT
BEGIN:STANDARD
TZOFFSETFROM:-0400
TZOFFSETTO:-0500
TZNAME:EST
DTSTART:20261101T060000
END:STANDARD
END:VTIMEZONE
BEGIN:VEVENT
DTSTART;TZID=America/New_York:20250616T100000
DTEND;TZID=America/New_York:20250616T130000
DTSTAMP:20260420T081813
CREATED:20250513T154011Z
LAST-MODIFIED:20250513T154011Z
UID:10000152-1750068000-1750078800@heartlandreschool.com
SUMMARY:License Law for Georgia Real Estate Professionals
DESCRIPTION:License Law for Georgia Real Estate Professionals\nThe Georgia Real Estate Commission requires as part of the renewal process for a real estate licensee to have attended a license law class during each cycle of their licensing term. \nWithin that course\, the course must include ten (10) key elements to the course in order to qualify for the LICENSE LAW criteria to be met for renewal of your Georgia Real Estate License. \nThose criteria are as follows: \n1.) Definitions of License Law\n2.) Effects of license status by licensee of prohibited conduct\n3.) Transferring license between brokerages\n4.) Trust and/or escrow accounts\n5.) Unfair Trade Practices prohibited\n6.) Brokerage Relationships\n7.) Management responsibilities of real estate firms\n8.) Advertising\n9.) How to handle real estate transactions\n10.) Licensees acting as principals \nThis course covers those required elements and has been approved by the Georgia Real Estate Commission.  We will go over the laws utilizing the latest edition of Georgia Real Estate Licensing and Appraiser Laws and Regulations Annotated. \nThis course has been approved by the Georgia Real Estate Commission as a Continuing Education Class for 3.0 CE credits – The assigned course code is #71397.
URL:https://heartlandreschool.com/event/license-law-for-georgia-real-estate-professionals-17/
LOCATION:Heartland Realty School\, 2160 Morningside Drive\, Suite 200\, Buford\, GA\, 30518\, United States
CATEGORIES:CE - 3.0 Hours
ATTACH;FMTTYPE=image/jpeg:https://heartlandreschool.com/wp-content/uploads/2024/10/License-law.jpg
ORGANIZER;CN="Nakia Brooks":MAILTO:nakia@heartlandga.com
END:VEVENT
END:VCALENDAR