BEGIN:VCALENDAR
VERSION:2.0
PRODID:-//Heartland Realty School - ECPv6.15.20//NONSGML v1.0//EN
CALSCALE:GREGORIAN
METHOD:PUBLISH
X-ORIGINAL-URL:https://heartlandreschool.com
X-WR-CALDESC:Events for Heartland Realty School
REFRESH-INTERVAL;VALUE=DURATION:PT1H
X-Robots-Tag:noindex
X-PUBLISHED-TTL:PT1H
BEGIN:VTIMEZONE
TZID:America/New_York
BEGIN:DAYLIGHT
TZOFFSETFROM:-0500
TZOFFSETTO:-0400
TZNAME:EDT
DTSTART:20240310T070000
END:DAYLIGHT
BEGIN:STANDARD
TZOFFSETFROM:-0400
TZOFFSETTO:-0500
TZNAME:EST
DTSTART:20241103T060000
END:STANDARD
BEGIN:DAYLIGHT
TZOFFSETFROM:-0500
TZOFFSETTO:-0400
TZNAME:EDT
DTSTART:20250309T070000
END:DAYLIGHT
BEGIN:STANDARD
TZOFFSETFROM:-0400
TZOFFSETTO:-0500
TZNAME:EST
DTSTART:20251102T060000
END:STANDARD
BEGIN:DAYLIGHT
TZOFFSETFROM:-0500
TZOFFSETTO:-0400
TZNAME:EDT
DTSTART:20260308T070000
END:DAYLIGHT
BEGIN:STANDARD
TZOFFSETFROM:-0400
TZOFFSETTO:-0500
TZNAME:EST
DTSTART:20261101T060000
END:STANDARD
END:VTIMEZONE
BEGIN:VEVENT
DTSTART;TZID=America/New_York:20250618T100000
DTEND;TZID=America/New_York:20250618T110000
DTSTAMP:20260425T081647
CREATED:20250603T162232Z
LAST-MODIFIED:20250603T162232Z
UID:10000153-1750240800-1750244400@heartlandreschool.com
SUMMARY:Open House Power Hour
DESCRIPTION:Join Heartland’s own Chloe Iacob and Chelsea Watts as they share proven strategies and best practices for hosting successful open houses. Whether you’re new to open houses or looking to elevate your current approach\, this is a session you won’t want to miss! \nA special thank you to Fran Bagley with Allstate\, our event sponsor\, who will be providing breakfast for all attendees. \nRegistration is required
URL:https://heartlandreschool.com/event/open-house-power-hour/
LOCATION:Heartland Realty School\, 2160 Morningside Drive\, Suite 200\, Buford\, GA\, 30518\, United States
CATEGORIES:NON-CE - Lunch and Learn
ATTACH;FMTTYPE=image/jpeg:https://heartlandreschool.com/wp-content/uploads/2025/06/Open-House-1.jpg
ORGANIZER;CN="Nakia Brooks":MAILTO:nakia@heartlandga.com
END:VEVENT
END:VCALENDAR