BEGIN:VCALENDAR
VERSION:2.0
PRODID:-//Heartland Realty School - ECPv6.15.20//NONSGML v1.0//EN
CALSCALE:GREGORIAN
METHOD:PUBLISH
X-ORIGINAL-URL:https://heartlandreschool.com
X-WR-CALDESC:Events for Heartland Realty School
REFRESH-INTERVAL;VALUE=DURATION:PT1H
X-Robots-Tag:noindex
X-PUBLISHED-TTL:PT1H
BEGIN:VTIMEZONE
TZID:America/New_York
BEGIN:DAYLIGHT
TZOFFSETFROM:-0500
TZOFFSETTO:-0400
TZNAME:EDT
DTSTART:20240310T070000
END:DAYLIGHT
BEGIN:STANDARD
TZOFFSETFROM:-0400
TZOFFSETTO:-0500
TZNAME:EST
DTSTART:20241103T060000
END:STANDARD
BEGIN:DAYLIGHT
TZOFFSETFROM:-0500
TZOFFSETTO:-0400
TZNAME:EDT
DTSTART:20250309T070000
END:DAYLIGHT
BEGIN:STANDARD
TZOFFSETFROM:-0400
TZOFFSETTO:-0500
TZNAME:EST
DTSTART:20251102T060000
END:STANDARD
BEGIN:DAYLIGHT
TZOFFSETFROM:-0500
TZOFFSETTO:-0400
TZNAME:EDT
DTSTART:20260308T070000
END:DAYLIGHT
BEGIN:STANDARD
TZOFFSETFROM:-0400
TZOFFSETTO:-0500
TZNAME:EST
DTSTART:20261101T060000
END:STANDARD
END:VTIMEZONE
BEGIN:VEVENT
DTSTART;TZID=America/New_York:20250107T110000
DTEND;TZID=America/New_York:20250107T120000
DTSTAMP:20260423T064951
CREATED:20241021T155113Z
LAST-MODIFIED:20250102T170827Z
UID:10000142-1736247600-1736251200@heartlandreschool.com
SUMMARY:Lunch and Learn - Home Inspections w/ Blueprint Home Inspection
DESCRIPTION:Lunch and Learn with Blueprint Home Inspections \nWhat to Expect:\nJoin Josh Carson\, founder of Blueprint Home Inspection\, for an insightful session on the ins and outs of home inspections. With his extensive background as a licensed contractor\, Josh has built a reputation for delivering inspection reports that are clear\, concise\, and grounded in practical\, real-life experience. \nThis session provides the perfect opportunity to: \n\nAsk questions directly to an expert.\nGain valuable knowledge about home inspections.\nNetwork with fellow real estate professionals.\nEnjoy a complimentary lunch (provided by Blueprint Home Inspection) while learning!\n\nWhether you’re new to the industry or looking to deepen your understanding of inspections\, this class is designed to provide actionable insights you can apply right away. Don’t miss it!
URL:https://heartlandreschool.com/event/lunch-and-learn-home-inspections-w-blueprint-home-inspection/
LOCATION:Heartland Realty School\, 2160 Morningside Drive\, Suite 200\, Buford\, GA\, 30518\, United States
CATEGORIES:NON-CE - Lunch and Learn
ORGANIZER;CN="Nakia Brooks":MAILTO:nakia@heartlandga.com
END:VEVENT
END:VCALENDAR